BEGIN:VCALENDAR
VERSION:2.0
PRODID:-//Corporate Interiors - ECPv5.14.1//NONSGML v1.0//EN
CALSCALE:GREGORIAN
METHOD:PUBLISH
X-WR-CALNAME:Corporate Interiors
X-ORIGINAL-URL:https://www.corporate-interiors.com
X-WR-CALDESC:Events for Corporate Interiors
BEGIN:VTIMEZONE
TZID:America/New_York
BEGIN:DAYLIGHT
TZOFFSETFROM:-0500
TZOFFSETTO:-0400
TZNAME:EDT
DTSTART:20210314T070000
END:DAYLIGHT
BEGIN:STANDARD
TZOFFSETFROM:-0400
TZOFFSETTO:-0500
TZNAME:EST
DTSTART:20211107T060000
END:STANDARD
END:VTIMEZONE
BEGIN:VEVENT
DTSTART;VALUE=DATE:20211004
DTEND;VALUE=DATE:20211007
DTSTAMP:20260424T082714
CREATED:20210903T025916Z
LAST-MODIFIED:20210903T032540Z
UID:44780-1633305600-1633564799@www.corporate-interiors.com
SUMMARY:{Virtual} NeoCon with Corporate Interiors
DESCRIPTION:If you can’t make it to NeoCon in person this year\, let Corporate Interiors be your eyes on the ground to bring you all the latest products and solutions in workplace design. Join us for live feeds of exhibit tours\, keynote presentations and other special programming.
URL:https://www.corporate-interiors.com/event/virtual-neocon-corporate-interiors/
ATTACH;FMTTYPE=image/jpeg:https://www.corporate-interiors.com/wp-content/uploads/sites/1507/2021/09/2021_SC_NeoCon_Banner_R3.jpg
ORGANIZER;CN="Corporate%20Interiors":MAILTO:connectwithus@corporate-interiors.com
END:VEVENT
END:VCALENDAR