BEGIN:VCALENDAR
VERSION:2.0
PRODID:-//Corporate Interiors - ECPv5.14.1//NONSGML v1.0//EN
CALSCALE:GREGORIAN
METHOD:PUBLISH
X-WR-CALNAME:Corporate Interiors
X-ORIGINAL-URL:https://www.corporate-interiors.com
X-WR-CALDESC:Events for Corporate Interiors
BEGIN:VTIMEZONE
TZID:America/New_York
BEGIN:DAYLIGHT
TZOFFSETFROM:-0500
TZOFFSETTO:-0400
TZNAME:EDT
DTSTART:20220313T070000
END:DAYLIGHT
BEGIN:STANDARD
TZOFFSETFROM:-0400
TZOFFSETTO:-0500
TZNAME:EST
DTSTART:20221106T060000
END:STANDARD
END:VTIMEZONE
BEGIN:VEVENT
DTSTART;TZID=America/New_York:20220407T170000
DTEND;TZID=America/New_York:20220407T180000
DTSTAMP:20260424T003806
CREATED:20220331T205721Z
LAST-MODIFIED:20220420T194146Z
UID:47608-1649350800-1649354400@www.corporate-interiors.com
SUMMARY:{Virtual} Monthly CEU
DESCRIPTION:
URL:https://www.corporate-interiors.com/event/virtual-monthly-ceu-2/
ORGANIZER;CN="Corporate%20Interiors":MAILTO:connectwithus@corporate-interiors.com
END:VEVENT
END:VCALENDAR