BEGIN:VCALENDAR
VERSION:2.0
PRODID:-//Corporate Interiors - ECPv5.14.1//NONSGML v1.0//EN
CALSCALE:GREGORIAN
METHOD:PUBLISH
X-WR-CALNAME:Corporate Interiors
X-ORIGINAL-URL:https://www.corporate-interiors.com
X-WR-CALDESC:Events for Corporate Interiors
BEGIN:VTIMEZONE
TZID:America/New_York
BEGIN:DAYLIGHT
TZOFFSETFROM:-0500
TZOFFSETTO:-0400
TZNAME:EDT
DTSTART:20210314T070000
END:DAYLIGHT
BEGIN:STANDARD
TZOFFSETFROM:-0400
TZOFFSETTO:-0500
TZNAME:EST
DTSTART:20211107T060000
END:STANDARD
END:VTIMEZONE
BEGIN:VEVENT
DTSTART;TZID=America/New_York:20211020T180000
DTEND;TZID=America/New_York:20211020T210000
DTSTAMP:20260424T032841
CREATED:20210903T032228Z
LAST-MODIFIED:20210903T033002Z
UID:44791-1634752800-1634763600@www.corporate-interiors.com
SUMMARY:Product Pumpkin Patch
DESCRIPTION:Join Steelcase\, Illuminations and our partners for a Fall product pop-up. You’ll see the latest products from multiple vendors in a festive outdoor setting. \nShowcase your creativity in our pumpkin painting contest while enjoying drinks and snacks at a safe distance with our team. Family members are welcome. \n*COVID-19: We will follow all local safety guidelines and request that guests wear masks.
URL:https://www.corporate-interiors.com/event/product-pumpkin-patch/
LOCATION:The Logan\, Outdoor Courtyard\, 1 Logan Square\, Philadelphia\, PA\, 19103\, United States
ATTACH;FMTTYPE=image/jpeg:https://www.corporate-interiors.com/wp-content/uploads/sites/1507/2021/09/productpumpkinpatch.jpg
ORGANIZER;CN="Corporate%20Interiors":MAILTO:connectwithus@corporate-interiors.com
END:VEVENT
END:VCALENDAR