BEGIN:VCALENDAR
VERSION:2.0
PRODID:-//Corporate Interiors - ECPv5.14.1//NONSGML v1.0//EN
CALSCALE:GREGORIAN
METHOD:PUBLISH
X-WR-CALNAME:Corporate Interiors
X-ORIGINAL-URL:https://www.corporate-interiors.com
X-WR-CALDESC:Events for Corporate Interiors
BEGIN:VTIMEZONE
TZID:America/New_York
BEGIN:DAYLIGHT
TZOFFSETFROM:-0500
TZOFFSETTO:-0400
TZNAME:EDT
DTSTART:20230312T070000
END:DAYLIGHT
BEGIN:STANDARD
TZOFFSETFROM:-0400
TZOFFSETTO:-0500
TZNAME:EST
DTSTART:20231105T060000
END:STANDARD
END:VTIMEZONE
BEGIN:VEVENT
DTSTART;TZID=America/New_York:20230613T163000
DTEND;TZID=America/New_York:20230613T190000
DTSTAMP:20260424T165242
CREATED:20230518T120242Z
LAST-MODIFIED:20230523T145221Z
UID:48428-1686673800-1686682800@www.corporate-interiors.com
SUMMARY:NeoCan't 2023
DESCRIPTION:  \nCorporate Interiors is headed to Chicago for NeoCon 2023! \nWell— some of us are. Not us. We’ve been left behind. \nSo instead\, we’re throwing our own party! If you’ve misplaced your invitation\nto NeoCon\, join us at #NeoCan’t! Our local team will be at the Philadelphia\nWorkBetterLab serving some evening cocktails\, giving tours of the lab\, and\nwatching streams of NeoCon\, all against a gorgeous backdrop of the city of\nPhiladelphia! \nYou can sign up for #NeoCan’t with the RSVP button below!\nIf you ARE going to NeoCon— you can still sign up for a tour of the Steelcase\nShowroom at NeoCon using the TOUR button. \nWHEN: June 13th 4:30 – 7pm\nWHERE: 1818 Market St. 28th Floor\, Philadelphia\, PA 19103 \nRSVP NEOCAN’T \nTOUR NEOCON \nDownload
URL:https://www.corporate-interiors.com/event/neocant-2023/
LOCATION:WorkBetterLab – Philadelphia\, 1818 Market Street\, 28th Floor\, Philadelphia\, PA\, 19103\, United States
ATTACH;FMTTYPE=image/jpeg:https://www.corporate-interiors.com/wp-content/uploads/sites/1507/2023/05/22-0181271-scaled.jpg
GEO:42.884848;-85.6429553
X-APPLE-STRUCTURED-LOCATION;VALUE=URI;X-ADDRESS=WorkBetterLab – Philadelphia 1818 Market Street 28th Floor Philadelphia PA 19103 United States;X-APPLE-RADIUS=500;X-TITLE=1818 Market Street\, 28th Floor:geo:-85.6429553,42.884848
END:VEVENT
END:VCALENDAR