BEGIN:VCALENDAR
VERSION:2.0
PRODID:-//Corporate Interiors - ECPv5.14.1//NONSGML v1.0//EN
CALSCALE:GREGORIAN
METHOD:PUBLISH
X-WR-CALNAME:Corporate Interiors
X-ORIGINAL-URL:https://www.corporate-interiors.com
X-WR-CALDESC:Events for Corporate Interiors
BEGIN:VTIMEZONE
TZID:America/New_York
BEGIN:DAYLIGHT
TZOFFSETFROM:-0500
TZOFFSETTO:-0400
TZNAME:EDT
DTSTART:20210314T070000
END:DAYLIGHT
BEGIN:STANDARD
TZOFFSETFROM:-0400
TZOFFSETTO:-0500
TZNAME:EST
DTSTART:20211107T060000
END:STANDARD
END:VTIMEZONE
BEGIN:VEVENT
DTSTART;TZID=America/New_York:20211104T160000
DTEND;TZID=America/New_York:20211104T170000
DTSTAMP:20260424T020029
CREATED:20210903T023641Z
LAST-MODIFIED:20211021T130402Z
UID:44767-1636041600-1636045200@www.corporate-interiors.com
SUMMARY:{Virtual} Monthly CEU
DESCRIPTION:New Performance for the Private Office\nWhat’s needed to create private offices that perform and shift to meet real expectations and needs? To improve the work experience\, satisfy real estate strategy and empower people? \nAIA & IDCEC Accredited
URL:https://www.corporate-interiors.com/event/monthly-ceu/
ATTACH;FMTTYPE=image/jpeg:https://www.corporate-interiors.com/wp-content/uploads/sites/1507/2021/09/CI-CEU-Series_08_PrivateOffice-Social.jpg
ORGANIZER;CN="Corporate%20Interiors":MAILTO:connectwithus@corporate-interiors.com
END:VEVENT
END:VCALENDAR