BEGIN:VCALENDAR
VERSION:2.0
PRODID:-//Corporate Interiors - ECPv5.14.1//NONSGML v1.0//EN
CALSCALE:GREGORIAN
METHOD:PUBLISH
X-WR-CALNAME:Corporate Interiors
X-ORIGINAL-URL:https://www.corporate-interiors.com
X-WR-CALDESC:Events for Corporate Interiors
BEGIN:VTIMEZONE
TZID:America/New_York
BEGIN:DAYLIGHT
TZOFFSETFROM:-0500
TZOFFSETTO:-0400
TZNAME:EDT
DTSTART:20220313T070000
END:DAYLIGHT
BEGIN:STANDARD
TZOFFSETFROM:-0400
TZOFFSETTO:-0500
TZNAME:EST
DTSTART:20221106T060000
END:STANDARD
END:VTIMEZONE
BEGIN:VEVENT
DTSTART;TZID=America/New_York:20220518T173000
DTEND;TZID=America/New_York:20220518T203000
DTSTAMP:20260424T003825
CREATED:20220420T172228Z
LAST-MODIFIED:20220420T173035Z
UID:47591-1652895000-1652905800@www.corporate-interiors.com
SUMMARY:Launch Party
DESCRIPTION:Everything about work has changed. People are working in new ways\, and they are looking for a fundamentally different experience at work. New expectations and a desire for hybrid work require a better vision for the workplace. \nMore information coming soon!
URL:https://www.corporate-interiors.com/event/launch-party/
LOCATION:TBD\, Philadelphia\, PA\, United States
ATTACH;FMTTYPE=image/jpeg:https://www.corporate-interiors.com/wp-content/uploads/sites/1507/2022/04/philly-workbetterlab-hero-1770x600-e1650475827679.jpg
ORGANIZER;CN="Corporate%20Interiors":MAILTO:connectwithus@corporate-interiors.com
END:VEVENT
END:VCALENDAR