BEGIN:VCALENDAR
VERSION:2.0
PRODID:-//Corporate Interiors - ECPv5.14.1//NONSGML v1.0//EN
CALSCALE:GREGORIAN
METHOD:PUBLISH
X-WR-CALNAME:Corporate Interiors
X-ORIGINAL-URL:https://www.corporate-interiors.com
X-WR-CALDESC:Events for Corporate Interiors
BEGIN:VTIMEZONE
TZID:America/New_York
BEGIN:DAYLIGHT
TZOFFSETFROM:-0500
TZOFFSETTO:-0400
TZNAME:EDT
DTSTART:20240310T070000
END:DAYLIGHT
BEGIN:STANDARD
TZOFFSETFROM:-0400
TZOFFSETTO:-0500
TZNAME:EST
DTSTART:20241103T060000
END:STANDARD
END:VTIMEZONE
BEGIN:VEVENT
DTSTART;TZID=America/New_York:20240509T170000
DTEND;TZID=America/New_York:20240509T190000
DTSTAMP:20260425T102451
CREATED:20240416T151216Z
LAST-MODIFIED:20240430T135838Z
UID:50354-1715274000-1715281200@www.corporate-interiors.com
SUMMARY:BETTER TOGETHER - Making A Difference Through Meaningful Material Selection
DESCRIPTION: 
URL:https://www.corporate-interiors.com/event/better-together-making-a-difference-through-meaningful-material-selection-2/
LOCATION:WorkBetterLab – Philadelphia\, 1818 Market Street\, 28th Floor\, Philadelphia\, PA\, 19103\, United States
ATTACH;FMTTYPE=image/jpeg:https://www.corporate-interiors.com/wp-content/uploads/sites/1507/2024/04/Better-Together-RSVP-HERO.jpg
ORGANIZER;CN="Corporate%20Interiors":MAILTO:connectwithus@corporate-interiors.com
GEO:42.884848;-85.6429553
X-APPLE-STRUCTURED-LOCATION;VALUE=URI;X-ADDRESS=WorkBetterLab – Philadelphia 1818 Market Street 28th Floor Philadelphia PA 19103 United States;X-APPLE-RADIUS=500;X-TITLE=1818 Market Street\, 28th Floor:geo:-85.6429553,42.884848
END:VEVENT
END:VCALENDAR