BEGIN:VCALENDAR
VERSION:2.0
PRODID:-//Corporate Interiors - ECPv5.14.1//NONSGML v1.0//EN
CALSCALE:GREGORIAN
METHOD:PUBLISH
X-WR-CALNAME:Corporate Interiors
X-ORIGINAL-URL:https://www.corporate-interiors.com
X-WR-CALDESC:Events for Corporate Interiors
BEGIN:VTIMEZONE
TZID:America/New_York
BEGIN:DAYLIGHT
TZOFFSETFROM:-0500
TZOFFSETTO:-0400
TZNAME:EDT
DTSTART:20210314T070000
END:DAYLIGHT
BEGIN:STANDARD
TZOFFSETFROM:-0400
TZOFFSETTO:-0500
TZNAME:EST
DTSTART:20211107T060000
END:STANDARD
END:VTIMEZONE
BEGIN:VEVENT
DTSTART;TZID=America/New_York:20211006T183000
DTEND;TZID=America/New_York:20211006T200000
DTSTAMP:20260424T064106
CREATED:20210903T031451Z
LAST-MODIFIED:20210903T032718Z
UID:44784-1633545000-1633550400@www.corporate-interiors.com
SUMMARY:AIA DesignPhiladelphia Festival KickOff Party
DESCRIPTION:Join Corporate Interiors as we get the first live look at the interactive installations and exhibitions filling the pier and socialize in a safe and inviting environment. Food and beverage will be provided following the latest COVID-19 protocols.
URL:https://www.corporate-interiors.com/event/aia-designphiladelphia-festival-kickoff-party/
LOCATION:Cherry Street Pier\, 121 N Christopher Columbus Blvd\, Philadelphia\, PA\, 19106\, United States
ATTACH;FMTTYPE=image/jpeg:https://www.corporate-interiors.com/wp-content/uploads/sites/1507/2021/09/designphillyevent.jpg
END:VEVENT
END:VCALENDAR